BEGIN:VCALENDAR
VERSION:2.0
PRODID:-//eventon.com NONSGML v1.0//EN
CALSCALE:GREGORIAN
METHOD:PUBLISH
BEGIN:VEVENT
UID:69e5e7f57b49f
DTSTAMP:20260420T084645Z
DTSTART:20241113T190000Z
DTEND:20241113T194500Z
LOCATION:
SUMMARY:Benefits and credits for students
DESCRIPTION:Students\,  it pays to do your taxes! In honour of Financial Li
 teracy Month\,  the Canada Revenue Agency (CRA) is hosting an interactive w
 ebinar for students on: Taxes and why we pay them What to expect when start
 ing your first job Ways to do your taxes GST/HST credit and other tax[..]\n
 https://vracanada.com/events/benefits-and-credits-for-students/
URL:https://vracanada.com/events/benefits-and-credits-for-students/
END:VEVENT
END:VCALENDAR